BEGIN:VCALENDAR
VERSION:2.0
PRODID:-//Sweet Prospect Baptist Church - ECPv6.11.2.1//NONSGML v1.0//EN
CALSCALE:GREGORIAN
METHOD:PUBLISH
X-ORIGINAL-URL:https://www.sweetprospectbaptistchurch.org
X-WR-CALDESC:Events for Sweet Prospect Baptist Church
REFRESH-INTERVAL;VALUE=DURATION:PT1H
X-Robots-Tag:noindex
X-PUBLISHED-TTL:PT1H
BEGIN:VTIMEZONE
TZID:America/New_York
BEGIN:DAYLIGHT
TZOFFSETFROM:-0500
TZOFFSETTO:-0400
TZNAME:EDT
DTSTART:20280312T070000
END:DAYLIGHT
BEGIN:STANDARD
TZOFFSETFROM:-0400
TZOFFSETTO:-0500
TZNAME:EST
DTSTART:20281105T060000
END:STANDARD
BEGIN:DAYLIGHT
TZOFFSETFROM:-0500
TZOFFSETTO:-0400
TZNAME:EDT
DTSTART:20290311T070000
END:DAYLIGHT
BEGIN:STANDARD
TZOFFSETFROM:-0400
TZOFFSETTO:-0500
TZNAME:EST
DTSTART:20291104T060000
END:STANDARD
END:VTIMEZONE
BEGIN:VEVENT
DTSTART;TZID=America/New_York:20281101T190000
DTEND;TZID=America/New_York:20281101T203000
DTSTAMP:20260422T050046
CREATED:20250220T002222Z
LAST-MODIFIED:20250220T002235Z
UID:10000455-1856718000-1856723400@www.sweetprospectbaptistchurch.org
SUMMARY:Online Bible Study
DESCRIPTION:Attend our weekly online bible study.  We cover various Biblical aspects and how they relate to daily life.
URL:https://www.sweetprospectbaptistchurch.org/event/online-bible-study/2028-11-01/
END:VEVENT
BEGIN:VEVENT
DTSTART;TZID=America/New_York:20281108T190000
DTEND;TZID=America/New_York:20281108T203000
DTSTAMP:20260422T050046
CREATED:20250220T002222Z
LAST-MODIFIED:20250220T002235Z
UID:10000456-1857322800-1857328200@www.sweetprospectbaptistchurch.org
SUMMARY:Online Bible Study
DESCRIPTION:Attend our weekly online bible study.  We cover various Biblical aspects and how they relate to daily life.
URL:https://www.sweetprospectbaptistchurch.org/event/online-bible-study/2028-11-08/
END:VEVENT
BEGIN:VEVENT
DTSTART;TZID=America/New_York:20281115T190000
DTEND;TZID=America/New_York:20281115T203000
DTSTAMP:20260422T050046
CREATED:20250220T002222Z
LAST-MODIFIED:20250220T002235Z
UID:10000457-1857927600-1857933000@www.sweetprospectbaptistchurch.org
SUMMARY:Online Bible Study
DESCRIPTION:Attend our weekly online bible study.  We cover various Biblical aspects and how they relate to daily life.
URL:https://www.sweetprospectbaptistchurch.org/event/online-bible-study/2028-11-15/
END:VEVENT
BEGIN:VEVENT
DTSTART;TZID=America/New_York:20281122T190000
DTEND;TZID=America/New_York:20281122T203000
DTSTAMP:20260422T050046
CREATED:20250220T002222Z
LAST-MODIFIED:20250220T002235Z
UID:10000458-1858532400-1858537800@www.sweetprospectbaptistchurch.org
SUMMARY:Online Bible Study
DESCRIPTION:Attend our weekly online bible study.  We cover various Biblical aspects and how they relate to daily life.
URL:https://www.sweetprospectbaptistchurch.org/event/online-bible-study/2028-11-22/
END:VEVENT
BEGIN:VEVENT
DTSTART;TZID=America/New_York:20281129T190000
DTEND;TZID=America/New_York:20281129T203000
DTSTAMP:20260422T050046
CREATED:20250220T002222Z
LAST-MODIFIED:20250220T002235Z
UID:10000459-1859137200-1859142600@www.sweetprospectbaptistchurch.org
SUMMARY:Online Bible Study
DESCRIPTION:Attend our weekly online bible study.  We cover various Biblical aspects and how they relate to daily life.
URL:https://www.sweetprospectbaptistchurch.org/event/online-bible-study/2028-11-29/
END:VEVENT
BEGIN:VEVENT
DTSTART;TZID=America/New_York:20281206T190000
DTEND;TZID=America/New_York:20281206T203000
DTSTAMP:20260422T050046
CREATED:20250220T002222Z
LAST-MODIFIED:20250220T002235Z
UID:10000460-1859742000-1859747400@www.sweetprospectbaptistchurch.org
SUMMARY:Online Bible Study
DESCRIPTION:Attend our weekly online bible study.  We cover various Biblical aspects and how they relate to daily life.
URL:https://www.sweetprospectbaptistchurch.org/event/online-bible-study/2028-12-06/
END:VEVENT
BEGIN:VEVENT
DTSTART;TZID=America/New_York:20281213T190000
DTEND;TZID=America/New_York:20281213T203000
DTSTAMP:20260422T050046
CREATED:20250220T002222Z
LAST-MODIFIED:20250220T002235Z
UID:10000461-1860346800-1860352200@www.sweetprospectbaptistchurch.org
SUMMARY:Online Bible Study
DESCRIPTION:Attend our weekly online bible study.  We cover various Biblical aspects and how they relate to daily life.
URL:https://www.sweetprospectbaptistchurch.org/event/online-bible-study/2028-12-13/
END:VEVENT
BEGIN:VEVENT
DTSTART;TZID=America/New_York:20281220T190000
DTEND;TZID=America/New_York:20281220T203000
DTSTAMP:20260422T050046
CREATED:20250220T002222Z
LAST-MODIFIED:20250220T002235Z
UID:10000462-1860951600-1860957000@www.sweetprospectbaptistchurch.org
SUMMARY:Online Bible Study
DESCRIPTION:Attend our weekly online bible study.  We cover various Biblical aspects and how they relate to daily life.
URL:https://www.sweetprospectbaptistchurch.org/event/online-bible-study/2028-12-20/
END:VEVENT
BEGIN:VEVENT
DTSTART;TZID=America/New_York:20281227T190000
DTEND;TZID=America/New_York:20281227T203000
DTSTAMP:20260422T050046
CREATED:20250220T002222Z
LAST-MODIFIED:20250220T002235Z
UID:10000463-1861556400-1861561800@www.sweetprospectbaptistchurch.org
SUMMARY:Online Bible Study
DESCRIPTION:Attend our weekly online bible study.  We cover various Biblical aspects and how they relate to daily life.
URL:https://www.sweetprospectbaptistchurch.org/event/online-bible-study/2028-12-27/
END:VEVENT
BEGIN:VEVENT
DTSTART;TZID=America/New_York:20290103T190000
DTEND;TZID=America/New_York:20290103T203000
DTSTAMP:20260422T050046
CREATED:20250220T002222Z
LAST-MODIFIED:20250220T002235Z
UID:10000464-1862161200-1862166600@www.sweetprospectbaptistchurch.org
SUMMARY:Online Bible Study
DESCRIPTION:Attend our weekly online bible study.  We cover various Biblical aspects and how they relate to daily life.
URL:https://www.sweetprospectbaptistchurch.org/event/online-bible-study/2029-01-03/
END:VEVENT
BEGIN:VEVENT
DTSTART;TZID=America/New_York:20290110T190000
DTEND;TZID=America/New_York:20290110T203000
DTSTAMP:20260422T050046
CREATED:20250220T002222Z
LAST-MODIFIED:20250220T002235Z
UID:10000465-1862766000-1862771400@www.sweetprospectbaptistchurch.org
SUMMARY:Online Bible Study
DESCRIPTION:Attend our weekly online bible study.  We cover various Biblical aspects and how they relate to daily life.
URL:https://www.sweetprospectbaptistchurch.org/event/online-bible-study/2029-01-10/
END:VEVENT
BEGIN:VEVENT
DTSTART;TZID=America/New_York:20290117T190000
DTEND;TZID=America/New_York:20290117T203000
DTSTAMP:20260422T050046
CREATED:20250220T002222Z
LAST-MODIFIED:20250220T002235Z
UID:10000466-1863370800-1863376200@www.sweetprospectbaptistchurch.org
SUMMARY:Online Bible Study
DESCRIPTION:Attend our weekly online bible study.  We cover various Biblical aspects and how they relate to daily life.
URL:https://www.sweetprospectbaptistchurch.org/event/online-bible-study/2029-01-17/
END:VEVENT
BEGIN:VEVENT
DTSTART;TZID=America/New_York:20290124T190000
DTEND;TZID=America/New_York:20290124T203000
DTSTAMP:20260422T050046
CREATED:20250220T002222Z
LAST-MODIFIED:20250220T002235Z
UID:10000467-1863975600-1863981000@www.sweetprospectbaptistchurch.org
SUMMARY:Online Bible Study
DESCRIPTION:Attend our weekly online bible study.  We cover various Biblical aspects and how they relate to daily life.
URL:https://www.sweetprospectbaptistchurch.org/event/online-bible-study/2029-01-24/
END:VEVENT
BEGIN:VEVENT
DTSTART;TZID=America/New_York:20290131T190000
DTEND;TZID=America/New_York:20290131T203000
DTSTAMP:20260422T050046
CREATED:20250220T002222Z
LAST-MODIFIED:20250220T002235Z
UID:10000468-1864580400-1864585800@www.sweetprospectbaptistchurch.org
SUMMARY:Online Bible Study
DESCRIPTION:Attend our weekly online bible study.  We cover various Biblical aspects and how they relate to daily life.
URL:https://www.sweetprospectbaptistchurch.org/event/online-bible-study/2029-01-31/
END:VEVENT
BEGIN:VEVENT
DTSTART;TZID=America/New_York:20290207T190000
DTEND;TZID=America/New_York:20290207T203000
DTSTAMP:20260422T050046
CREATED:20250220T002222Z
LAST-MODIFIED:20250220T002235Z
UID:10000469-1865185200-1865190600@www.sweetprospectbaptistchurch.org
SUMMARY:Online Bible Study
DESCRIPTION:Attend our weekly online bible study.  We cover various Biblical aspects and how they relate to daily life.
URL:https://www.sweetprospectbaptistchurch.org/event/online-bible-study/2029-02-07/
END:VEVENT
BEGIN:VEVENT
DTSTART;TZID=America/New_York:20290214T190000
DTEND;TZID=America/New_York:20290214T203000
DTSTAMP:20260422T050046
CREATED:20250220T002222Z
LAST-MODIFIED:20250220T002235Z
UID:10000470-1865790000-1865795400@www.sweetprospectbaptistchurch.org
SUMMARY:Online Bible Study
DESCRIPTION:Attend our weekly online bible study.  We cover various Biblical aspects and how they relate to daily life.
URL:https://www.sweetprospectbaptistchurch.org/event/online-bible-study/2029-02-14/
END:VEVENT
BEGIN:VEVENT
DTSTART;TZID=America/New_York:20290221T190000
DTEND;TZID=America/New_York:20290221T203000
DTSTAMP:20260422T050046
CREATED:20250220T002222Z
LAST-MODIFIED:20250220T002235Z
UID:10000471-1866394800-1866400200@www.sweetprospectbaptistchurch.org
SUMMARY:Online Bible Study
DESCRIPTION:Attend our weekly online bible study.  We cover various Biblical aspects and how they relate to daily life.
URL:https://www.sweetprospectbaptistchurch.org/event/online-bible-study/2029-02-21/
END:VEVENT
BEGIN:VEVENT
DTSTART;TZID=America/New_York:20290228T190000
DTEND;TZID=America/New_York:20290228T203000
DTSTAMP:20260422T050046
CREATED:20250220T002222Z
LAST-MODIFIED:20250220T002235Z
UID:10000472-1866999600-1867005000@www.sweetprospectbaptistchurch.org
SUMMARY:Online Bible Study
DESCRIPTION:Attend our weekly online bible study.  We cover various Biblical aspects and how they relate to daily life.
URL:https://www.sweetprospectbaptistchurch.org/event/online-bible-study/2029-02-28/
END:VEVENT
BEGIN:VEVENT
DTSTART;TZID=America/New_York:20290307T190000
DTEND;TZID=America/New_York:20290307T203000
DTSTAMP:20260422T050046
CREATED:20250220T002222Z
LAST-MODIFIED:20250220T002235Z
UID:10000473-1867604400-1867609800@www.sweetprospectbaptistchurch.org
SUMMARY:Online Bible Study
DESCRIPTION:Attend our weekly online bible study.  We cover various Biblical aspects and how they relate to daily life.
URL:https://www.sweetprospectbaptistchurch.org/event/online-bible-study/2029-03-07/
END:VEVENT
BEGIN:VEVENT
DTSTART;TZID=America/New_York:20290314T190000
DTEND;TZID=America/New_York:20290314T203000
DTSTAMP:20260422T050046
CREATED:20250220T002222Z
LAST-MODIFIED:20250220T002235Z
UID:10000474-1868209200-1868214600@www.sweetprospectbaptistchurch.org
SUMMARY:Online Bible Study
DESCRIPTION:Attend our weekly online bible study.  We cover various Biblical aspects and how they relate to daily life.
URL:https://www.sweetprospectbaptistchurch.org/event/online-bible-study/2029-03-14/
END:VEVENT
BEGIN:VEVENT
DTSTART;TZID=America/New_York:20290321T190000
DTEND;TZID=America/New_York:20290321T203000
DTSTAMP:20260422T050046
CREATED:20250220T002222Z
LAST-MODIFIED:20250220T002235Z
UID:10000475-1868814000-1868819400@www.sweetprospectbaptistchurch.org
SUMMARY:Online Bible Study
DESCRIPTION:Attend our weekly online bible study.  We cover various Biblical aspects and how they relate to daily life.
URL:https://www.sweetprospectbaptistchurch.org/event/online-bible-study/2029-03-21/
END:VEVENT
BEGIN:VEVENT
DTSTART;TZID=America/New_York:20290328T190000
DTEND;TZID=America/New_York:20290328T203000
DTSTAMP:20260422T050046
CREATED:20250220T002222Z
LAST-MODIFIED:20250220T002235Z
UID:10000476-1869418800-1869424200@www.sweetprospectbaptistchurch.org
SUMMARY:Online Bible Study
DESCRIPTION:Attend our weekly online bible study.  We cover various Biblical aspects and how they relate to daily life.
URL:https://www.sweetprospectbaptistchurch.org/event/online-bible-study/2029-03-28/
END:VEVENT
BEGIN:VEVENT
DTSTART;TZID=America/New_York:20290404T190000
DTEND;TZID=America/New_York:20290404T203000
DTSTAMP:20260422T050046
CREATED:20250220T002222Z
LAST-MODIFIED:20250220T002235Z
UID:10000477-1870023600-1870029000@www.sweetprospectbaptistchurch.org
SUMMARY:Online Bible Study
DESCRIPTION:Attend our weekly online bible study.  We cover various Biblical aspects and how they relate to daily life.
URL:https://www.sweetprospectbaptistchurch.org/event/online-bible-study/2029-04-04/
END:VEVENT
BEGIN:VEVENT
DTSTART;TZID=America/New_York:20290411T190000
DTEND;TZID=America/New_York:20290411T203000
DTSTAMP:20260422T050046
CREATED:20250220T002222Z
LAST-MODIFIED:20250220T002235Z
UID:10000478-1870628400-1870633800@www.sweetprospectbaptistchurch.org
SUMMARY:Online Bible Study
DESCRIPTION:Attend our weekly online bible study.  We cover various Biblical aspects and how they relate to daily life.
URL:https://www.sweetprospectbaptistchurch.org/event/online-bible-study/2029-04-11/
END:VEVENT
BEGIN:VEVENT
DTSTART;TZID=America/New_York:20290418T190000
DTEND;TZID=America/New_York:20290418T203000
DTSTAMP:20260422T050046
CREATED:20250220T002222Z
LAST-MODIFIED:20250220T002235Z
UID:10000479-1871233200-1871238600@www.sweetprospectbaptistchurch.org
SUMMARY:Online Bible Study
DESCRIPTION:Attend our weekly online bible study.  We cover various Biblical aspects and how they relate to daily life.
URL:https://www.sweetprospectbaptistchurch.org/event/online-bible-study/2029-04-18/
END:VEVENT
BEGIN:VEVENT
DTSTART;TZID=America/New_York:20290425T190000
DTEND;TZID=America/New_York:20290425T203000
DTSTAMP:20260422T050046
CREATED:20250220T002222Z
LAST-MODIFIED:20250220T002235Z
UID:10000480-1871838000-1871843400@www.sweetprospectbaptistchurch.org
SUMMARY:Online Bible Study
DESCRIPTION:Attend our weekly online bible study.  We cover various Biblical aspects and how they relate to daily life.
URL:https://www.sweetprospectbaptistchurch.org/event/online-bible-study/2029-04-25/
END:VEVENT
BEGIN:VEVENT
DTSTART;TZID=America/New_York:20290502T190000
DTEND;TZID=America/New_York:20290502T203000
DTSTAMP:20260422T050046
CREATED:20250220T002222Z
LAST-MODIFIED:20250220T002235Z
UID:10000481-1872442800-1872448200@www.sweetprospectbaptistchurch.org
SUMMARY:Online Bible Study
DESCRIPTION:Attend our weekly online bible study.  We cover various Biblical aspects and how they relate to daily life.
URL:https://www.sweetprospectbaptistchurch.org/event/online-bible-study/2029-05-02/
END:VEVENT
BEGIN:VEVENT
DTSTART;TZID=America/New_York:20290509T190000
DTEND;TZID=America/New_York:20290509T203000
DTSTAMP:20260422T050046
CREATED:20250220T002222Z
LAST-MODIFIED:20250220T002235Z
UID:10000482-1873047600-1873053000@www.sweetprospectbaptistchurch.org
SUMMARY:Online Bible Study
DESCRIPTION:Attend our weekly online bible study.  We cover various Biblical aspects and how they relate to daily life.
URL:https://www.sweetprospectbaptistchurch.org/event/online-bible-study/2029-05-09/
END:VEVENT
BEGIN:VEVENT
DTSTART;TZID=America/New_York:20290516T190000
DTEND;TZID=America/New_York:20290516T203000
DTSTAMP:20260422T050046
CREATED:20250220T002222Z
LAST-MODIFIED:20250220T002235Z
UID:10000483-1873652400-1873657800@www.sweetprospectbaptistchurch.org
SUMMARY:Online Bible Study
DESCRIPTION:Attend our weekly online bible study.  We cover various Biblical aspects and how they relate to daily life.
URL:https://www.sweetprospectbaptistchurch.org/event/online-bible-study/2029-05-16/
END:VEVENT
BEGIN:VEVENT
DTSTART;TZID=America/New_York:20290523T190000
DTEND;TZID=America/New_York:20290523T203000
DTSTAMP:20260422T050046
CREATED:20250220T002222Z
LAST-MODIFIED:20250220T002235Z
UID:10000484-1874257200-1874262600@www.sweetprospectbaptistchurch.org
SUMMARY:Online Bible Study
DESCRIPTION:Attend our weekly online bible study.  We cover various Biblical aspects and how they relate to daily life.
URL:https://www.sweetprospectbaptistchurch.org/event/online-bible-study/2029-05-23/
END:VEVENT
END:VCALENDAR