BEGIN:VCALENDAR
VERSION:2.0
PRODID:-//Sweet Prospect Baptist Church - ECPv6.11.2.1//NONSGML v1.0//EN
CALSCALE:GREGORIAN
METHOD:PUBLISH
X-ORIGINAL-URL:https://www.sweetprospectbaptistchurch.org
X-WR-CALDESC:Events for Sweet Prospect Baptist Church
REFRESH-INTERVAL;VALUE=DURATION:PT1H
X-Robots-Tag:noindex
X-PUBLISHED-TTL:PT1H
BEGIN:VTIMEZONE
TZID:America/New_York
BEGIN:DAYLIGHT
TZOFFSETFROM:-0500
TZOFFSETTO:-0400
TZNAME:EDT
DTSTART:20290311T070000
END:DAYLIGHT
BEGIN:STANDARD
TZOFFSETFROM:-0400
TZOFFSETTO:-0500
TZNAME:EST
DTSTART:20291104T060000
END:STANDARD
BEGIN:DAYLIGHT
TZOFFSETFROM:-0500
TZOFFSETTO:-0400
TZNAME:EDT
DTSTART:20300310T070000
END:DAYLIGHT
BEGIN:STANDARD
TZOFFSETFROM:-0400
TZOFFSETTO:-0500
TZNAME:EST
DTSTART:20301103T060000
END:STANDARD
END:VTIMEZONE
BEGIN:VEVENT
DTSTART;TZID=America/New_York:20291003T190000
DTEND;TZID=America/New_York:20291003T203000
DTSTAMP:20260422T123801
CREATED:20250220T002222Z
LAST-MODIFIED:20250220T002235Z
UID:10000503-1885748400-1885753800@www.sweetprospectbaptistchurch.org
SUMMARY:Online Bible Study
DESCRIPTION:Attend our weekly online bible study.  We cover various Biblical aspects and how they relate to daily life.
URL:https://www.sweetprospectbaptistchurch.org/event/online-bible-study/2029-10-03/
END:VEVENT
BEGIN:VEVENT
DTSTART;TZID=America/New_York:20291010T190000
DTEND;TZID=America/New_York:20291010T203000
DTSTAMP:20260422T123801
CREATED:20250220T002222Z
LAST-MODIFIED:20250220T002235Z
UID:10000504-1886353200-1886358600@www.sweetprospectbaptistchurch.org
SUMMARY:Online Bible Study
DESCRIPTION:Attend our weekly online bible study.  We cover various Biblical aspects and how they relate to daily life.
URL:https://www.sweetprospectbaptistchurch.org/event/online-bible-study/2029-10-10/
END:VEVENT
BEGIN:VEVENT
DTSTART;TZID=America/New_York:20291017T190000
DTEND;TZID=America/New_York:20291017T203000
DTSTAMP:20260422T123801
CREATED:20250220T002222Z
LAST-MODIFIED:20250220T002235Z
UID:10000505-1886958000-1886963400@www.sweetprospectbaptistchurch.org
SUMMARY:Online Bible Study
DESCRIPTION:Attend our weekly online bible study.  We cover various Biblical aspects and how they relate to daily life.
URL:https://www.sweetprospectbaptistchurch.org/event/online-bible-study/2029-10-17/
END:VEVENT
BEGIN:VEVENT
DTSTART;TZID=America/New_York:20291024T190000
DTEND;TZID=America/New_York:20291024T203000
DTSTAMP:20260422T123801
CREATED:20250220T002222Z
LAST-MODIFIED:20250220T002235Z
UID:10000506-1887562800-1887568200@www.sweetprospectbaptistchurch.org
SUMMARY:Online Bible Study
DESCRIPTION:Attend our weekly online bible study.  We cover various Biblical aspects and how they relate to daily life.
URL:https://www.sweetprospectbaptistchurch.org/event/online-bible-study/2029-10-24/
END:VEVENT
BEGIN:VEVENT
DTSTART;TZID=America/New_York:20291031T190000
DTEND;TZID=America/New_York:20291031T203000
DTSTAMP:20260422T123801
CREATED:20250220T002222Z
LAST-MODIFIED:20250220T002235Z
UID:10000507-1888167600-1888173000@www.sweetprospectbaptistchurch.org
SUMMARY:Online Bible Study
DESCRIPTION:Attend our weekly online bible study.  We cover various Biblical aspects and how they relate to daily life.
URL:https://www.sweetprospectbaptistchurch.org/event/online-bible-study/2029-10-31/
END:VEVENT
BEGIN:VEVENT
DTSTART;TZID=America/New_York:20291107T190000
DTEND;TZID=America/New_York:20291107T203000
DTSTAMP:20260422T123801
CREATED:20250220T002222Z
LAST-MODIFIED:20250220T002235Z
UID:10000508-1888772400-1888777800@www.sweetprospectbaptistchurch.org
SUMMARY:Online Bible Study
DESCRIPTION:Attend our weekly online bible study.  We cover various Biblical aspects and how they relate to daily life.
URL:https://www.sweetprospectbaptistchurch.org/event/online-bible-study/2029-11-07/
END:VEVENT
BEGIN:VEVENT
DTSTART;TZID=America/New_York:20291114T190000
DTEND;TZID=America/New_York:20291114T203000
DTSTAMP:20260422T123801
CREATED:20250220T002222Z
LAST-MODIFIED:20250220T002235Z
UID:10000509-1889377200-1889382600@www.sweetprospectbaptistchurch.org
SUMMARY:Online Bible Study
DESCRIPTION:Attend our weekly online bible study.  We cover various Biblical aspects and how they relate to daily life.
URL:https://www.sweetprospectbaptistchurch.org/event/online-bible-study/2029-11-14/
END:VEVENT
BEGIN:VEVENT
DTSTART;TZID=America/New_York:20291121T190000
DTEND;TZID=America/New_York:20291121T203000
DTSTAMP:20260422T123801
CREATED:20250220T002222Z
LAST-MODIFIED:20250220T002235Z
UID:10000510-1889982000-1889987400@www.sweetprospectbaptistchurch.org
SUMMARY:Online Bible Study
DESCRIPTION:Attend our weekly online bible study.  We cover various Biblical aspects and how they relate to daily life.
URL:https://www.sweetprospectbaptistchurch.org/event/online-bible-study/2029-11-21/
END:VEVENT
BEGIN:VEVENT
DTSTART;TZID=America/New_York:20291128T190000
DTEND;TZID=America/New_York:20291128T203000
DTSTAMP:20260422T123801
CREATED:20250220T002222Z
LAST-MODIFIED:20250220T002235Z
UID:10000511-1890586800-1890592200@www.sweetprospectbaptistchurch.org
SUMMARY:Online Bible Study
DESCRIPTION:Attend our weekly online bible study.  We cover various Biblical aspects and how they relate to daily life.
URL:https://www.sweetprospectbaptistchurch.org/event/online-bible-study/2029-11-28/
END:VEVENT
BEGIN:VEVENT
DTSTART;TZID=America/New_York:20291205T190000
DTEND;TZID=America/New_York:20291205T203000
DTSTAMP:20260422T123801
CREATED:20250220T002222Z
LAST-MODIFIED:20250220T002235Z
UID:10000512-1891191600-1891197000@www.sweetprospectbaptistchurch.org
SUMMARY:Online Bible Study
DESCRIPTION:Attend our weekly online bible study.  We cover various Biblical aspects and how they relate to daily life.
URL:https://www.sweetprospectbaptistchurch.org/event/online-bible-study/2029-12-05/
END:VEVENT
BEGIN:VEVENT
DTSTART;TZID=America/New_York:20291212T190000
DTEND;TZID=America/New_York:20291212T203000
DTSTAMP:20260422T123801
CREATED:20250220T002222Z
LAST-MODIFIED:20250220T002235Z
UID:10000513-1891796400-1891801800@www.sweetprospectbaptistchurch.org
SUMMARY:Online Bible Study
DESCRIPTION:Attend our weekly online bible study.  We cover various Biblical aspects and how they relate to daily life.
URL:https://www.sweetprospectbaptistchurch.org/event/online-bible-study/2029-12-12/
END:VEVENT
BEGIN:VEVENT
DTSTART;TZID=America/New_York:20291219T190000
DTEND;TZID=America/New_York:20291219T203000
DTSTAMP:20260422T123801
CREATED:20250220T002222Z
LAST-MODIFIED:20250220T002235Z
UID:10000514-1892401200-1892406600@www.sweetprospectbaptistchurch.org
SUMMARY:Online Bible Study
DESCRIPTION:Attend our weekly online bible study.  We cover various Biblical aspects and how they relate to daily life.
URL:https://www.sweetprospectbaptistchurch.org/event/online-bible-study/2029-12-19/
END:VEVENT
BEGIN:VEVENT
DTSTART;TZID=America/New_York:20291226T190000
DTEND;TZID=America/New_York:20291226T203000
DTSTAMP:20260422T123801
CREATED:20250220T002222Z
LAST-MODIFIED:20250220T002235Z
UID:10000515-1893006000-1893011400@www.sweetprospectbaptistchurch.org
SUMMARY:Online Bible Study
DESCRIPTION:Attend our weekly online bible study.  We cover various Biblical aspects and how they relate to daily life.
URL:https://www.sweetprospectbaptistchurch.org/event/online-bible-study/2029-12-26/
END:VEVENT
BEGIN:VEVENT
DTSTART;TZID=America/New_York:20300102T190000
DTEND;TZID=America/New_York:20300102T203000
DTSTAMP:20260422T123801
CREATED:20250220T002222Z
LAST-MODIFIED:20250220T002235Z
UID:10000516-1893610800-1893616200@www.sweetprospectbaptistchurch.org
SUMMARY:Online Bible Study
DESCRIPTION:Attend our weekly online bible study.  We cover various Biblical aspects and how they relate to daily life.
URL:https://www.sweetprospectbaptistchurch.org/event/online-bible-study/2030-01-02/
END:VEVENT
BEGIN:VEVENT
DTSTART;TZID=America/New_York:20300109T190000
DTEND;TZID=America/New_York:20300109T203000
DTSTAMP:20260422T123801
CREATED:20250220T002222Z
LAST-MODIFIED:20250220T002235Z
UID:10000517-1894215600-1894221000@www.sweetprospectbaptistchurch.org
SUMMARY:Online Bible Study
DESCRIPTION:Attend our weekly online bible study.  We cover various Biblical aspects and how they relate to daily life.
URL:https://www.sweetprospectbaptistchurch.org/event/online-bible-study/2030-01-09/
END:VEVENT
BEGIN:VEVENT
DTSTART;TZID=America/New_York:20300116T190000
DTEND;TZID=America/New_York:20300116T203000
DTSTAMP:20260422T123801
CREATED:20250220T002222Z
LAST-MODIFIED:20250220T002235Z
UID:10000518-1894820400-1894825800@www.sweetprospectbaptistchurch.org
SUMMARY:Online Bible Study
DESCRIPTION:Attend our weekly online bible study.  We cover various Biblical aspects and how they relate to daily life.
URL:https://www.sweetprospectbaptistchurch.org/event/online-bible-study/2030-01-16/
END:VEVENT
BEGIN:VEVENT
DTSTART;TZID=America/New_York:20300123T190000
DTEND;TZID=America/New_York:20300123T203000
DTSTAMP:20260422T123801
CREATED:20250220T002222Z
LAST-MODIFIED:20250220T002235Z
UID:10000519-1895425200-1895430600@www.sweetprospectbaptistchurch.org
SUMMARY:Online Bible Study
DESCRIPTION:Attend our weekly online bible study.  We cover various Biblical aspects and how they relate to daily life.
URL:https://www.sweetprospectbaptistchurch.org/event/online-bible-study/2030-01-23/
END:VEVENT
BEGIN:VEVENT
DTSTART;TZID=America/New_York:20300130T190000
DTEND;TZID=America/New_York:20300130T203000
DTSTAMP:20260422T123801
CREATED:20250220T002222Z
LAST-MODIFIED:20250220T002235Z
UID:10000520-1896030000-1896035400@www.sweetprospectbaptistchurch.org
SUMMARY:Online Bible Study
DESCRIPTION:Attend our weekly online bible study.  We cover various Biblical aspects and how they relate to daily life.
URL:https://www.sweetprospectbaptistchurch.org/event/online-bible-study/2030-01-30/
END:VEVENT
BEGIN:VEVENT
DTSTART;TZID=America/New_York:20300206T190000
DTEND;TZID=America/New_York:20300206T203000
DTSTAMP:20260422T123801
CREATED:20250220T002222Z
LAST-MODIFIED:20250220T002235Z
UID:10000521-1896634800-1896640200@www.sweetprospectbaptistchurch.org
SUMMARY:Online Bible Study
DESCRIPTION:Attend our weekly online bible study.  We cover various Biblical aspects and how they relate to daily life.
URL:https://www.sweetprospectbaptistchurch.org/event/online-bible-study/2030-02-06/
END:VEVENT
BEGIN:VEVENT
DTSTART;TZID=America/New_York:20300213T190000
DTEND;TZID=America/New_York:20300213T203000
DTSTAMP:20260422T123801
CREATED:20250220T002222Z
LAST-MODIFIED:20250220T002235Z
UID:10000522-1897239600-1897245000@www.sweetprospectbaptistchurch.org
SUMMARY:Online Bible Study
DESCRIPTION:Attend our weekly online bible study.  We cover various Biblical aspects and how they relate to daily life.
URL:https://www.sweetprospectbaptistchurch.org/event/online-bible-study/2030-02-13/
END:VEVENT
END:VCALENDAR