BEGIN:VCALENDAR
VERSION:2.0
PRODID:-//Sweet Prospect Baptist Church - ECPv6.11.2.1//NONSGML v1.0//EN
CALSCALE:GREGORIAN
METHOD:PUBLISH
X-WR-CALNAME:Sweet Prospect Baptist Church
X-ORIGINAL-URL:https://www.sweetprospectbaptistchurch.org
X-WR-CALDESC:Events for Sweet Prospect Baptist Church
REFRESH-INTERVAL;VALUE=DURATION:PT1H
X-Robots-Tag:noindex
X-PUBLISHED-TTL:PT1H
BEGIN:VTIMEZONE
TZID:America/New_York
BEGIN:DAYLIGHT
TZOFFSETFROM:-0500
TZOFFSETTO:-0400
TZNAME:EDT
DTSTART:20290311T070000
END:DAYLIGHT
BEGIN:STANDARD
TZOFFSETFROM:-0400
TZOFFSETTO:-0500
TZNAME:EST
DTSTART:20291104T060000
END:STANDARD
BEGIN:DAYLIGHT
TZOFFSETFROM:-0500
TZOFFSETTO:-0400
TZNAME:EDT
DTSTART:20300310T070000
END:DAYLIGHT
BEGIN:STANDARD
TZOFFSETFROM:-0400
TZOFFSETTO:-0500
TZNAME:EST
DTSTART:20301103T060000
END:STANDARD
END:VTIMEZONE
BEGIN:VEVENT
DTSTART;TZID=America/New_York:20291226T190000
DTEND;TZID=America/New_York:20291226T203000
DTSTAMP:20260422T123628
CREATED:20250220T002222Z
LAST-MODIFIED:20250220T002235Z
UID:10000515-1893006000-1893011400@www.sweetprospectbaptistchurch.org
SUMMARY:Online Bible Study
DESCRIPTION:Attend our weekly online bible study.  We cover various Biblical aspects and how they relate to daily life.
URL:https://www.sweetprospectbaptistchurch.org/event/online-bible-study/2029-12-26/
END:VEVENT
BEGIN:VEVENT
DTSTART;TZID=America/New_York:20300102T190000
DTEND;TZID=America/New_York:20300102T203000
DTSTAMP:20260422T123628
CREATED:20250220T002222Z
LAST-MODIFIED:20250220T002235Z
UID:10000516-1893610800-1893616200@www.sweetprospectbaptistchurch.org
SUMMARY:Online Bible Study
DESCRIPTION:Attend our weekly online bible study.  We cover various Biblical aspects and how they relate to daily life.
URL:https://www.sweetprospectbaptistchurch.org/event/online-bible-study/2030-01-02/
END:VEVENT
BEGIN:VEVENT
DTSTART;TZID=America/New_York:20300109T190000
DTEND;TZID=America/New_York:20300109T203000
DTSTAMP:20260422T123628
CREATED:20250220T002222Z
LAST-MODIFIED:20250220T002235Z
UID:10000517-1894215600-1894221000@www.sweetprospectbaptistchurch.org
SUMMARY:Online Bible Study
DESCRIPTION:Attend our weekly online bible study.  We cover various Biblical aspects and how they relate to daily life.
URL:https://www.sweetprospectbaptistchurch.org/event/online-bible-study/2030-01-09/
END:VEVENT
BEGIN:VEVENT
DTSTART;TZID=America/New_York:20300116T190000
DTEND;TZID=America/New_York:20300116T203000
DTSTAMP:20260422T123628
CREATED:20250220T002222Z
LAST-MODIFIED:20250220T002235Z
UID:10000518-1894820400-1894825800@www.sweetprospectbaptistchurch.org
SUMMARY:Online Bible Study
DESCRIPTION:Attend our weekly online bible study.  We cover various Biblical aspects and how they relate to daily life.
URL:https://www.sweetprospectbaptistchurch.org/event/online-bible-study/2030-01-16/
END:VEVENT
BEGIN:VEVENT
DTSTART;TZID=America/New_York:20300123T190000
DTEND;TZID=America/New_York:20300123T203000
DTSTAMP:20260422T123628
CREATED:20250220T002222Z
LAST-MODIFIED:20250220T002235Z
UID:10000519-1895425200-1895430600@www.sweetprospectbaptistchurch.org
SUMMARY:Online Bible Study
DESCRIPTION:Attend our weekly online bible study.  We cover various Biblical aspects and how they relate to daily life.
URL:https://www.sweetprospectbaptistchurch.org/event/online-bible-study/2030-01-23/
END:VEVENT
BEGIN:VEVENT
DTSTART;TZID=America/New_York:20300130T190000
DTEND;TZID=America/New_York:20300130T203000
DTSTAMP:20260422T123628
CREATED:20250220T002222Z
LAST-MODIFIED:20250220T002235Z
UID:10000520-1896030000-1896035400@www.sweetprospectbaptistchurch.org
SUMMARY:Online Bible Study
DESCRIPTION:Attend our weekly online bible study.  We cover various Biblical aspects and how they relate to daily life.
URL:https://www.sweetprospectbaptistchurch.org/event/online-bible-study/2030-01-30/
END:VEVENT
BEGIN:VEVENT
DTSTART;TZID=America/New_York:20300206T190000
DTEND;TZID=America/New_York:20300206T203000
DTSTAMP:20260422T123628
CREATED:20250220T002222Z
LAST-MODIFIED:20250220T002235Z
UID:10000521-1896634800-1896640200@www.sweetprospectbaptistchurch.org
SUMMARY:Online Bible Study
DESCRIPTION:Attend our weekly online bible study.  We cover various Biblical aspects and how they relate to daily life.
URL:https://www.sweetprospectbaptistchurch.org/event/online-bible-study/2030-02-06/
END:VEVENT
BEGIN:VEVENT
DTSTART;TZID=America/New_York:20300213T190000
DTEND;TZID=America/New_York:20300213T203000
DTSTAMP:20260422T123628
CREATED:20250220T002222Z
LAST-MODIFIED:20250220T002235Z
UID:10000522-1897239600-1897245000@www.sweetprospectbaptistchurch.org
SUMMARY:Online Bible Study
DESCRIPTION:Attend our weekly online bible study.  We cover various Biblical aspects and how they relate to daily life.
URL:https://www.sweetprospectbaptistchurch.org/event/online-bible-study/2030-02-13/
END:VEVENT
END:VCALENDAR