BEGIN:VCALENDAR
VERSION:2.0
PRODID:-//Sweet Prospect Baptist Church - ECPv6.11.2.1//NONSGML v1.0//EN
CALSCALE:GREGORIAN
METHOD:PUBLISH
X-WR-CALNAME:Sweet Prospect Baptist Church
X-ORIGINAL-URL:https://www.sweetprospectbaptistchurch.org
X-WR-CALDESC:Events for Sweet Prospect Baptist Church
REFRESH-INTERVAL;VALUE=DURATION:PT1H
X-Robots-Tag:noindex
X-PUBLISHED-TTL:PT1H
BEGIN:VTIMEZONE
TZID:America/New_York
BEGIN:DAYLIGHT
TZOFFSETFROM:-0500
TZOFFSETTO:-0400
TZNAME:EDT
DTSTART:20260308T070000
END:DAYLIGHT
BEGIN:STANDARD
TZOFFSETFROM:-0400
TZOFFSETTO:-0500
TZNAME:EST
DTSTART:20261101T060000
END:STANDARD
BEGIN:DAYLIGHT
TZOFFSETFROM:-0500
TZOFFSETTO:-0400
TZNAME:EDT
DTSTART:20270314T070000
END:DAYLIGHT
BEGIN:STANDARD
TZOFFSETFROM:-0400
TZOFFSETTO:-0500
TZNAME:EST
DTSTART:20271107T060000
END:STANDARD
END:VTIMEZONE
BEGIN:VEVENT
DTSTART;TZID=America/New_York:20261007T190000
DTEND;TZID=America/New_York:20261007T203000
DTSTAMP:20260419T131725
CREATED:20250220T002222Z
LAST-MODIFIED:20250220T002235Z
UID:10000347-1791399600-1791405000@www.sweetprospectbaptistchurch.org
SUMMARY:Online Bible Study
DESCRIPTION:Attend our weekly online bible study.  We cover various Biblical aspects and how they relate to daily life.
URL:https://www.sweetprospectbaptistchurch.org/event/online-bible-study/2026-10-07/
END:VEVENT
BEGIN:VEVENT
DTSTART;TZID=America/New_York:20261014T190000
DTEND;TZID=America/New_York:20261014T203000
DTSTAMP:20260419T131725
CREATED:20250220T002222Z
LAST-MODIFIED:20250220T002235Z
UID:10000348-1792004400-1792009800@www.sweetprospectbaptistchurch.org
SUMMARY:Online Bible Study
DESCRIPTION:Attend our weekly online bible study.  We cover various Biblical aspects and how they relate to daily life.
URL:https://www.sweetprospectbaptistchurch.org/event/online-bible-study/2026-10-14/
END:VEVENT
BEGIN:VEVENT
DTSTART;TZID=America/New_York:20261021T190000
DTEND;TZID=America/New_York:20261021T203000
DTSTAMP:20260419T131725
CREATED:20250220T002222Z
LAST-MODIFIED:20250220T002235Z
UID:10000349-1792609200-1792614600@www.sweetprospectbaptistchurch.org
SUMMARY:Online Bible Study
DESCRIPTION:Attend our weekly online bible study.  We cover various Biblical aspects and how they relate to daily life.
URL:https://www.sweetprospectbaptistchurch.org/event/online-bible-study/2026-10-21/
END:VEVENT
BEGIN:VEVENT
DTSTART;TZID=America/New_York:20261028T190000
DTEND;TZID=America/New_York:20261028T203000
DTSTAMP:20260419T131725
CREATED:20250220T002222Z
LAST-MODIFIED:20250220T002235Z
UID:10000350-1793214000-1793219400@www.sweetprospectbaptistchurch.org
SUMMARY:Online Bible Study
DESCRIPTION:Attend our weekly online bible study.  We cover various Biblical aspects and how they relate to daily life.
URL:https://www.sweetprospectbaptistchurch.org/event/online-bible-study/2026-10-28/
END:VEVENT
BEGIN:VEVENT
DTSTART;TZID=America/New_York:20261104T190000
DTEND;TZID=America/New_York:20261104T203000
DTSTAMP:20260419T131725
CREATED:20250220T002222Z
LAST-MODIFIED:20250220T002235Z
UID:10000351-1793818800-1793824200@www.sweetprospectbaptistchurch.org
SUMMARY:Online Bible Study
DESCRIPTION:Attend our weekly online bible study.  We cover various Biblical aspects and how they relate to daily life.
URL:https://www.sweetprospectbaptistchurch.org/event/online-bible-study/2026-11-04/
END:VEVENT
BEGIN:VEVENT
DTSTART;TZID=America/New_York:20261111T190000
DTEND;TZID=America/New_York:20261111T203000
DTSTAMP:20260419T131725
CREATED:20250220T002222Z
LAST-MODIFIED:20250220T002235Z
UID:10000352-1794423600-1794429000@www.sweetprospectbaptistchurch.org
SUMMARY:Online Bible Study
DESCRIPTION:Attend our weekly online bible study.  We cover various Biblical aspects and how they relate to daily life.
URL:https://www.sweetprospectbaptistchurch.org/event/online-bible-study/2026-11-11/
END:VEVENT
BEGIN:VEVENT
DTSTART;TZID=America/New_York:20261118T190000
DTEND;TZID=America/New_York:20261118T203000
DTSTAMP:20260419T131725
CREATED:20250220T002222Z
LAST-MODIFIED:20250220T002235Z
UID:10000353-1795028400-1795033800@www.sweetprospectbaptistchurch.org
SUMMARY:Online Bible Study
DESCRIPTION:Attend our weekly online bible study.  We cover various Biblical aspects and how they relate to daily life.
URL:https://www.sweetprospectbaptistchurch.org/event/online-bible-study/2026-11-18/
END:VEVENT
BEGIN:VEVENT
DTSTART;TZID=America/New_York:20261125T190000
DTEND;TZID=America/New_York:20261125T203000
DTSTAMP:20260419T131725
CREATED:20250220T002222Z
LAST-MODIFIED:20250220T002235Z
UID:10000354-1795633200-1795638600@www.sweetprospectbaptistchurch.org
SUMMARY:Online Bible Study
DESCRIPTION:Attend our weekly online bible study.  We cover various Biblical aspects and how they relate to daily life.
URL:https://www.sweetprospectbaptistchurch.org/event/online-bible-study/2026-11-25/
END:VEVENT
BEGIN:VEVENT
DTSTART;TZID=America/New_York:20261202T190000
DTEND;TZID=America/New_York:20261202T203000
DTSTAMP:20260419T131725
CREATED:20250220T002222Z
LAST-MODIFIED:20250220T002235Z
UID:10000355-1796238000-1796243400@www.sweetprospectbaptistchurch.org
SUMMARY:Online Bible Study
DESCRIPTION:Attend our weekly online bible study.  We cover various Biblical aspects and how they relate to daily life.
URL:https://www.sweetprospectbaptistchurch.org/event/online-bible-study/2026-12-02/
END:VEVENT
BEGIN:VEVENT
DTSTART;TZID=America/New_York:20261209T190000
DTEND;TZID=America/New_York:20261209T203000
DTSTAMP:20260419T131725
CREATED:20250220T002222Z
LAST-MODIFIED:20250220T002235Z
UID:10000356-1796842800-1796848200@www.sweetprospectbaptistchurch.org
SUMMARY:Online Bible Study
DESCRIPTION:Attend our weekly online bible study.  We cover various Biblical aspects and how they relate to daily life.
URL:https://www.sweetprospectbaptistchurch.org/event/online-bible-study/2026-12-09/
END:VEVENT
BEGIN:VEVENT
DTSTART;TZID=America/New_York:20261216T190000
DTEND;TZID=America/New_York:20261216T203000
DTSTAMP:20260419T131725
CREATED:20250220T002222Z
LAST-MODIFIED:20250220T002235Z
UID:10000357-1797447600-1797453000@www.sweetprospectbaptistchurch.org
SUMMARY:Online Bible Study
DESCRIPTION:Attend our weekly online bible study.  We cover various Biblical aspects and how they relate to daily life.
URL:https://www.sweetprospectbaptistchurch.org/event/online-bible-study/2026-12-16/
END:VEVENT
BEGIN:VEVENT
DTSTART;TZID=America/New_York:20261223T190000
DTEND;TZID=America/New_York:20261223T203000
DTSTAMP:20260419T131725
CREATED:20250220T002222Z
LAST-MODIFIED:20250220T002235Z
UID:10000358-1798052400-1798057800@www.sweetprospectbaptistchurch.org
SUMMARY:Online Bible Study
DESCRIPTION:Attend our weekly online bible study.  We cover various Biblical aspects and how they relate to daily life.
URL:https://www.sweetprospectbaptistchurch.org/event/online-bible-study/2026-12-23/
END:VEVENT
BEGIN:VEVENT
DTSTART;TZID=America/New_York:20261230T190000
DTEND;TZID=America/New_York:20261230T203000
DTSTAMP:20260419T131725
CREATED:20250220T002222Z
LAST-MODIFIED:20250220T002235Z
UID:10000359-1798657200-1798662600@www.sweetprospectbaptistchurch.org
SUMMARY:Online Bible Study
DESCRIPTION:Attend our weekly online bible study.  We cover various Biblical aspects and how they relate to daily life.
URL:https://www.sweetprospectbaptistchurch.org/event/online-bible-study/2026-12-30/
END:VEVENT
BEGIN:VEVENT
DTSTART;TZID=America/New_York:20270106T190000
DTEND;TZID=America/New_York:20270106T203000
DTSTAMP:20260419T131725
CREATED:20250220T002222Z
LAST-MODIFIED:20250220T002235Z
UID:10000360-1799262000-1799267400@www.sweetprospectbaptistchurch.org
SUMMARY:Online Bible Study
DESCRIPTION:Attend our weekly online bible study.  We cover various Biblical aspects and how they relate to daily life.
URL:https://www.sweetprospectbaptistchurch.org/event/online-bible-study/2027-01-06/
END:VEVENT
BEGIN:VEVENT
DTSTART;TZID=America/New_York:20270113T190000
DTEND;TZID=America/New_York:20270113T203000
DTSTAMP:20260419T131725
CREATED:20250220T002222Z
LAST-MODIFIED:20250220T002235Z
UID:10000361-1799866800-1799872200@www.sweetprospectbaptistchurch.org
SUMMARY:Online Bible Study
DESCRIPTION:Attend our weekly online bible study.  We cover various Biblical aspects and how they relate to daily life.
URL:https://www.sweetprospectbaptistchurch.org/event/online-bible-study/2027-01-13/
END:VEVENT
BEGIN:VEVENT
DTSTART;TZID=America/New_York:20270120T190000
DTEND;TZID=America/New_York:20270120T203000
DTSTAMP:20260419T131725
CREATED:20250220T002222Z
LAST-MODIFIED:20250220T002235Z
UID:10000362-1800471600-1800477000@www.sweetprospectbaptistchurch.org
SUMMARY:Online Bible Study
DESCRIPTION:Attend our weekly online bible study.  We cover various Biblical aspects and how they relate to daily life.
URL:https://www.sweetprospectbaptistchurch.org/event/online-bible-study/2027-01-20/
END:VEVENT
BEGIN:VEVENT
DTSTART;TZID=America/New_York:20270127T190000
DTEND;TZID=America/New_York:20270127T203000
DTSTAMP:20260419T131725
CREATED:20250220T002222Z
LAST-MODIFIED:20250220T002235Z
UID:10000363-1801076400-1801081800@www.sweetprospectbaptistchurch.org
SUMMARY:Online Bible Study
DESCRIPTION:Attend our weekly online bible study.  We cover various Biblical aspects and how they relate to daily life.
URL:https://www.sweetprospectbaptistchurch.org/event/online-bible-study/2027-01-27/
END:VEVENT
BEGIN:VEVENT
DTSTART;TZID=America/New_York:20270203T190000
DTEND;TZID=America/New_York:20270203T203000
DTSTAMP:20260419T131725
CREATED:20250220T002222Z
LAST-MODIFIED:20250220T002235Z
UID:10000364-1801681200-1801686600@www.sweetprospectbaptistchurch.org
SUMMARY:Online Bible Study
DESCRIPTION:Attend our weekly online bible study.  We cover various Biblical aspects and how they relate to daily life.
URL:https://www.sweetprospectbaptistchurch.org/event/online-bible-study/2027-02-03/
END:VEVENT
BEGIN:VEVENT
DTSTART;TZID=America/New_York:20270210T190000
DTEND;TZID=America/New_York:20270210T203000
DTSTAMP:20260419T131725
CREATED:20250220T002222Z
LAST-MODIFIED:20250220T002235Z
UID:10000365-1802286000-1802291400@www.sweetprospectbaptistchurch.org
SUMMARY:Online Bible Study
DESCRIPTION:Attend our weekly online bible study.  We cover various Biblical aspects and how they relate to daily life.
URL:https://www.sweetprospectbaptistchurch.org/event/online-bible-study/2027-02-10/
END:VEVENT
BEGIN:VEVENT
DTSTART;TZID=America/New_York:20270217T190000
DTEND;TZID=America/New_York:20270217T203000
DTSTAMP:20260419T131725
CREATED:20250220T002222Z
LAST-MODIFIED:20250220T002235Z
UID:10000366-1802890800-1802896200@www.sweetprospectbaptistchurch.org
SUMMARY:Online Bible Study
DESCRIPTION:Attend our weekly online bible study.  We cover various Biblical aspects and how they relate to daily life.
URL:https://www.sweetprospectbaptistchurch.org/event/online-bible-study/2027-02-17/
END:VEVENT
BEGIN:VEVENT
DTSTART;TZID=America/New_York:20270224T190000
DTEND;TZID=America/New_York:20270224T203000
DTSTAMP:20260419T131725
CREATED:20250220T002222Z
LAST-MODIFIED:20250220T002235Z
UID:10000367-1803495600-1803501000@www.sweetprospectbaptistchurch.org
SUMMARY:Online Bible Study
DESCRIPTION:Attend our weekly online bible study.  We cover various Biblical aspects and how they relate to daily life.
URL:https://www.sweetprospectbaptistchurch.org/event/online-bible-study/2027-02-24/
END:VEVENT
BEGIN:VEVENT
DTSTART;TZID=America/New_York:20270303T190000
DTEND;TZID=America/New_York:20270303T203000
DTSTAMP:20260419T131725
CREATED:20250220T002222Z
LAST-MODIFIED:20250220T002235Z
UID:10000368-1804100400-1804105800@www.sweetprospectbaptistchurch.org
SUMMARY:Online Bible Study
DESCRIPTION:Attend our weekly online bible study.  We cover various Biblical aspects and how they relate to daily life.
URL:https://www.sweetprospectbaptistchurch.org/event/online-bible-study/2027-03-03/
END:VEVENT
BEGIN:VEVENT
DTSTART;TZID=America/New_York:20270310T190000
DTEND;TZID=America/New_York:20270310T203000
DTSTAMP:20260419T131725
CREATED:20250220T002222Z
LAST-MODIFIED:20250220T002235Z
UID:10000369-1804705200-1804710600@www.sweetprospectbaptistchurch.org
SUMMARY:Online Bible Study
DESCRIPTION:Attend our weekly online bible study.  We cover various Biblical aspects and how they relate to daily life.
URL:https://www.sweetprospectbaptistchurch.org/event/online-bible-study/2027-03-10/
END:VEVENT
BEGIN:VEVENT
DTSTART;TZID=America/New_York:20270317T190000
DTEND;TZID=America/New_York:20270317T203000
DTSTAMP:20260419T131725
CREATED:20250220T002222Z
LAST-MODIFIED:20250220T002235Z
UID:10000370-1805310000-1805315400@www.sweetprospectbaptistchurch.org
SUMMARY:Online Bible Study
DESCRIPTION:Attend our weekly online bible study.  We cover various Biblical aspects and how they relate to daily life.
URL:https://www.sweetprospectbaptistchurch.org/event/online-bible-study/2027-03-17/
END:VEVENT
BEGIN:VEVENT
DTSTART;TZID=America/New_York:20270324T190000
DTEND;TZID=America/New_York:20270324T203000
DTSTAMP:20260419T131725
CREATED:20250220T002222Z
LAST-MODIFIED:20250220T002235Z
UID:10000371-1805914800-1805920200@www.sweetprospectbaptistchurch.org
SUMMARY:Online Bible Study
DESCRIPTION:Attend our weekly online bible study.  We cover various Biblical aspects and how they relate to daily life.
URL:https://www.sweetprospectbaptistchurch.org/event/online-bible-study/2027-03-24/
END:VEVENT
BEGIN:VEVENT
DTSTART;TZID=America/New_York:20270331T190000
DTEND;TZID=America/New_York:20270331T203000
DTSTAMP:20260419T131725
CREATED:20250220T002222Z
LAST-MODIFIED:20250220T002235Z
UID:10000372-1806519600-1806525000@www.sweetprospectbaptistchurch.org
SUMMARY:Online Bible Study
DESCRIPTION:Attend our weekly online bible study.  We cover various Biblical aspects and how they relate to daily life.
URL:https://www.sweetprospectbaptistchurch.org/event/online-bible-study/2027-03-31/
END:VEVENT
BEGIN:VEVENT
DTSTART;TZID=America/New_York:20270407T190000
DTEND;TZID=America/New_York:20270407T203000
DTSTAMP:20260419T131725
CREATED:20250220T002222Z
LAST-MODIFIED:20250220T002235Z
UID:10000373-1807124400-1807129800@www.sweetprospectbaptistchurch.org
SUMMARY:Online Bible Study
DESCRIPTION:Attend our weekly online bible study.  We cover various Biblical aspects and how they relate to daily life.
URL:https://www.sweetprospectbaptistchurch.org/event/online-bible-study/2027-04-07/
END:VEVENT
BEGIN:VEVENT
DTSTART;TZID=America/New_York:20270414T190000
DTEND;TZID=America/New_York:20270414T203000
DTSTAMP:20260419T131725
CREATED:20250220T002222Z
LAST-MODIFIED:20250220T002235Z
UID:10000374-1807729200-1807734600@www.sweetprospectbaptistchurch.org
SUMMARY:Online Bible Study
DESCRIPTION:Attend our weekly online bible study.  We cover various Biblical aspects and how they relate to daily life.
URL:https://www.sweetprospectbaptistchurch.org/event/online-bible-study/2027-04-14/
END:VEVENT
BEGIN:VEVENT
DTSTART;TZID=America/New_York:20270421T190000
DTEND;TZID=America/New_York:20270421T203000
DTSTAMP:20260419T131725
CREATED:20250220T002222Z
LAST-MODIFIED:20250220T002235Z
UID:10000375-1808334000-1808339400@www.sweetprospectbaptistchurch.org
SUMMARY:Online Bible Study
DESCRIPTION:Attend our weekly online bible study.  We cover various Biblical aspects and how they relate to daily life.
URL:https://www.sweetprospectbaptistchurch.org/event/online-bible-study/2027-04-21/
END:VEVENT
BEGIN:VEVENT
DTSTART;TZID=America/New_York:20270428T190000
DTEND;TZID=America/New_York:20270428T203000
DTSTAMP:20260419T131725
CREATED:20250220T002222Z
LAST-MODIFIED:20250220T002235Z
UID:10000376-1808938800-1808944200@www.sweetprospectbaptistchurch.org
SUMMARY:Online Bible Study
DESCRIPTION:Attend our weekly online bible study.  We cover various Biblical aspects and how they relate to daily life.
URL:https://www.sweetprospectbaptistchurch.org/event/online-bible-study/2027-04-28/
END:VEVENT
END:VCALENDAR