BEGIN:VCALENDAR
VERSION:2.0
PRODID:-//Sweet Prospect Baptist Church - ECPv6.11.2.1//NONSGML v1.0//EN
CALSCALE:GREGORIAN
METHOD:PUBLISH
X-WR-CALNAME:Sweet Prospect Baptist Church
X-ORIGINAL-URL:https://www.sweetprospectbaptistchurch.org
X-WR-CALDESC:Events for Sweet Prospect Baptist Church
REFRESH-INTERVAL;VALUE=DURATION:PT1H
X-Robots-Tag:noindex
X-PUBLISHED-TTL:PT1H
BEGIN:VTIMEZONE
TZID:America/New_York
BEGIN:DAYLIGHT
TZOFFSETFROM:-0500
TZOFFSETTO:-0400
TZNAME:EDT
DTSTART:20270314T070000
END:DAYLIGHT
BEGIN:STANDARD
TZOFFSETFROM:-0400
TZOFFSETTO:-0500
TZNAME:EST
DTSTART:20271107T060000
END:STANDARD
BEGIN:DAYLIGHT
TZOFFSETFROM:-0500
TZOFFSETTO:-0400
TZNAME:EDT
DTSTART:20280312T070000
END:DAYLIGHT
BEGIN:STANDARD
TZOFFSETFROM:-0400
TZOFFSETTO:-0500
TZNAME:EST
DTSTART:20281105T060000
END:STANDARD
END:VTIMEZONE
BEGIN:VEVENT
DTSTART;TZID=America/New_York:20271201T190000
DTEND;TZID=America/New_York:20271201T203000
DTSTAMP:20260419T233308
CREATED:20250220T002222Z
LAST-MODIFIED:20250220T002235Z
UID:10000407-1827687600-1827693000@www.sweetprospectbaptistchurch.org
SUMMARY:Online Bible Study
DESCRIPTION:Attend our weekly online bible study.  We cover various Biblical aspects and how they relate to daily life.
URL:https://www.sweetprospectbaptistchurch.org/event/online-bible-study/2027-12-01/
END:VEVENT
BEGIN:VEVENT
DTSTART;TZID=America/New_York:20271208T190000
DTEND;TZID=America/New_York:20271208T203000
DTSTAMP:20260419T233308
CREATED:20250220T002222Z
LAST-MODIFIED:20250220T002235Z
UID:10000408-1828292400-1828297800@www.sweetprospectbaptistchurch.org
SUMMARY:Online Bible Study
DESCRIPTION:Attend our weekly online bible study.  We cover various Biblical aspects and how they relate to daily life.
URL:https://www.sweetprospectbaptistchurch.org/event/online-bible-study/2027-12-08/
END:VEVENT
BEGIN:VEVENT
DTSTART;TZID=America/New_York:20271215T190000
DTEND;TZID=America/New_York:20271215T203000
DTSTAMP:20260419T233308
CREATED:20250220T002222Z
LAST-MODIFIED:20250220T002235Z
UID:10000409-1828897200-1828902600@www.sweetprospectbaptistchurch.org
SUMMARY:Online Bible Study
DESCRIPTION:Attend our weekly online bible study.  We cover various Biblical aspects and how they relate to daily life.
URL:https://www.sweetprospectbaptistchurch.org/event/online-bible-study/2027-12-15/
END:VEVENT
BEGIN:VEVENT
DTSTART;TZID=America/New_York:20271222T190000
DTEND;TZID=America/New_York:20271222T203000
DTSTAMP:20260419T233308
CREATED:20250220T002222Z
LAST-MODIFIED:20250220T002235Z
UID:10000410-1829502000-1829507400@www.sweetprospectbaptistchurch.org
SUMMARY:Online Bible Study
DESCRIPTION:Attend our weekly online bible study.  We cover various Biblical aspects and how they relate to daily life.
URL:https://www.sweetprospectbaptistchurch.org/event/online-bible-study/2027-12-22/
END:VEVENT
BEGIN:VEVENT
DTSTART;TZID=America/New_York:20271229T190000
DTEND;TZID=America/New_York:20271229T203000
DTSTAMP:20260419T233308
CREATED:20250220T002222Z
LAST-MODIFIED:20250220T002235Z
UID:10000411-1830106800-1830112200@www.sweetprospectbaptistchurch.org
SUMMARY:Online Bible Study
DESCRIPTION:Attend our weekly online bible study.  We cover various Biblical aspects and how they relate to daily life.
URL:https://www.sweetprospectbaptistchurch.org/event/online-bible-study/2027-12-29/
END:VEVENT
BEGIN:VEVENT
DTSTART;TZID=America/New_York:20280105T190000
DTEND;TZID=America/New_York:20280105T203000
DTSTAMP:20260419T233308
CREATED:20250220T002222Z
LAST-MODIFIED:20250220T002235Z
UID:10000412-1830711600-1830717000@www.sweetprospectbaptistchurch.org
SUMMARY:Online Bible Study
DESCRIPTION:Attend our weekly online bible study.  We cover various Biblical aspects and how they relate to daily life.
URL:https://www.sweetprospectbaptistchurch.org/event/online-bible-study/2028-01-05/
END:VEVENT
BEGIN:VEVENT
DTSTART;TZID=America/New_York:20280112T190000
DTEND;TZID=America/New_York:20280112T203000
DTSTAMP:20260419T233308
CREATED:20250220T002222Z
LAST-MODIFIED:20250220T002235Z
UID:10000413-1831316400-1831321800@www.sweetprospectbaptistchurch.org
SUMMARY:Online Bible Study
DESCRIPTION:Attend our weekly online bible study.  We cover various Biblical aspects and how they relate to daily life.
URL:https://www.sweetprospectbaptistchurch.org/event/online-bible-study/2028-01-12/
END:VEVENT
BEGIN:VEVENT
DTSTART;TZID=America/New_York:20280119T190000
DTEND;TZID=America/New_York:20280119T203000
DTSTAMP:20260419T233308
CREATED:20250220T002222Z
LAST-MODIFIED:20250220T002235Z
UID:10000414-1831921200-1831926600@www.sweetprospectbaptistchurch.org
SUMMARY:Online Bible Study
DESCRIPTION:Attend our weekly online bible study.  We cover various Biblical aspects and how they relate to daily life.
URL:https://www.sweetprospectbaptistchurch.org/event/online-bible-study/2028-01-19/
END:VEVENT
BEGIN:VEVENT
DTSTART;TZID=America/New_York:20280126T190000
DTEND;TZID=America/New_York:20280126T203000
DTSTAMP:20260419T233308
CREATED:20250220T002222Z
LAST-MODIFIED:20250220T002235Z
UID:10000415-1832526000-1832531400@www.sweetprospectbaptistchurch.org
SUMMARY:Online Bible Study
DESCRIPTION:Attend our weekly online bible study.  We cover various Biblical aspects and how they relate to daily life.
URL:https://www.sweetprospectbaptistchurch.org/event/online-bible-study/2028-01-26/
END:VEVENT
BEGIN:VEVENT
DTSTART;TZID=America/New_York:20280202T190000
DTEND;TZID=America/New_York:20280202T203000
DTSTAMP:20260419T233308
CREATED:20250220T002222Z
LAST-MODIFIED:20250220T002235Z
UID:10000416-1833130800-1833136200@www.sweetprospectbaptistchurch.org
SUMMARY:Online Bible Study
DESCRIPTION:Attend our weekly online bible study.  We cover various Biblical aspects and how they relate to daily life.
URL:https://www.sweetprospectbaptistchurch.org/event/online-bible-study/2028-02-02/
END:VEVENT
BEGIN:VEVENT
DTSTART;TZID=America/New_York:20280209T190000
DTEND;TZID=America/New_York:20280209T203000
DTSTAMP:20260419T233308
CREATED:20250220T002222Z
LAST-MODIFIED:20250220T002235Z
UID:10000417-1833735600-1833741000@www.sweetprospectbaptistchurch.org
SUMMARY:Online Bible Study
DESCRIPTION:Attend our weekly online bible study.  We cover various Biblical aspects and how they relate to daily life.
URL:https://www.sweetprospectbaptistchurch.org/event/online-bible-study/2028-02-09/
END:VEVENT
BEGIN:VEVENT
DTSTART;TZID=America/New_York:20280216T190000
DTEND;TZID=America/New_York:20280216T203000
DTSTAMP:20260419T233308
CREATED:20250220T002222Z
LAST-MODIFIED:20250220T002235Z
UID:10000418-1834340400-1834345800@www.sweetprospectbaptistchurch.org
SUMMARY:Online Bible Study
DESCRIPTION:Attend our weekly online bible study.  We cover various Biblical aspects and how they relate to daily life.
URL:https://www.sweetprospectbaptistchurch.org/event/online-bible-study/2028-02-16/
END:VEVENT
BEGIN:VEVENT
DTSTART;TZID=America/New_York:20280223T190000
DTEND;TZID=America/New_York:20280223T203000
DTSTAMP:20260419T233308
CREATED:20250220T002222Z
LAST-MODIFIED:20250220T002235Z
UID:10000419-1834945200-1834950600@www.sweetprospectbaptistchurch.org
SUMMARY:Online Bible Study
DESCRIPTION:Attend our weekly online bible study.  We cover various Biblical aspects and how they relate to daily life.
URL:https://www.sweetprospectbaptistchurch.org/event/online-bible-study/2028-02-23/
END:VEVENT
BEGIN:VEVENT
DTSTART;TZID=America/New_York:20280301T190000
DTEND;TZID=America/New_York:20280301T203000
DTSTAMP:20260419T233308
CREATED:20250220T002222Z
LAST-MODIFIED:20250220T002235Z
UID:10000420-1835550000-1835555400@www.sweetprospectbaptistchurch.org
SUMMARY:Online Bible Study
DESCRIPTION:Attend our weekly online bible study.  We cover various Biblical aspects and how they relate to daily life.
URL:https://www.sweetprospectbaptistchurch.org/event/online-bible-study/2028-03-01/
END:VEVENT
BEGIN:VEVENT
DTSTART;TZID=America/New_York:20280308T190000
DTEND;TZID=America/New_York:20280308T203000
DTSTAMP:20260419T233308
CREATED:20250220T002222Z
LAST-MODIFIED:20250220T002235Z
UID:10000421-1836154800-1836160200@www.sweetprospectbaptistchurch.org
SUMMARY:Online Bible Study
DESCRIPTION:Attend our weekly online bible study.  We cover various Biblical aspects and how they relate to daily life.
URL:https://www.sweetprospectbaptistchurch.org/event/online-bible-study/2028-03-08/
END:VEVENT
BEGIN:VEVENT
DTSTART;TZID=America/New_York:20280315T190000
DTEND;TZID=America/New_York:20280315T203000
DTSTAMP:20260419T233308
CREATED:20250220T002222Z
LAST-MODIFIED:20250220T002235Z
UID:10000422-1836759600-1836765000@www.sweetprospectbaptistchurch.org
SUMMARY:Online Bible Study
DESCRIPTION:Attend our weekly online bible study.  We cover various Biblical aspects and how they relate to daily life.
URL:https://www.sweetprospectbaptistchurch.org/event/online-bible-study/2028-03-15/
END:VEVENT
BEGIN:VEVENT
DTSTART;TZID=America/New_York:20280322T190000
DTEND;TZID=America/New_York:20280322T203000
DTSTAMP:20260419T233308
CREATED:20250220T002222Z
LAST-MODIFIED:20250220T002235Z
UID:10000423-1837364400-1837369800@www.sweetprospectbaptistchurch.org
SUMMARY:Online Bible Study
DESCRIPTION:Attend our weekly online bible study.  We cover various Biblical aspects and how they relate to daily life.
URL:https://www.sweetprospectbaptistchurch.org/event/online-bible-study/2028-03-22/
END:VEVENT
BEGIN:VEVENT
DTSTART;TZID=America/New_York:20280329T190000
DTEND;TZID=America/New_York:20280329T203000
DTSTAMP:20260419T233308
CREATED:20250220T002222Z
LAST-MODIFIED:20250220T002235Z
UID:10000424-1837969200-1837974600@www.sweetprospectbaptistchurch.org
SUMMARY:Online Bible Study
DESCRIPTION:Attend our weekly online bible study.  We cover various Biblical aspects and how they relate to daily life.
URL:https://www.sweetprospectbaptistchurch.org/event/online-bible-study/2028-03-29/
END:VEVENT
BEGIN:VEVENT
DTSTART;TZID=America/New_York:20280405T190000
DTEND;TZID=America/New_York:20280405T203000
DTSTAMP:20260419T233308
CREATED:20250220T002222Z
LAST-MODIFIED:20250220T002235Z
UID:10000425-1838574000-1838579400@www.sweetprospectbaptistchurch.org
SUMMARY:Online Bible Study
DESCRIPTION:Attend our weekly online bible study.  We cover various Biblical aspects and how they relate to daily life.
URL:https://www.sweetprospectbaptistchurch.org/event/online-bible-study/2028-04-05/
END:VEVENT
BEGIN:VEVENT
DTSTART;TZID=America/New_York:20280412T190000
DTEND;TZID=America/New_York:20280412T203000
DTSTAMP:20260419T233308
CREATED:20250220T002222Z
LAST-MODIFIED:20250220T002235Z
UID:10000426-1839178800-1839184200@www.sweetprospectbaptistchurch.org
SUMMARY:Online Bible Study
DESCRIPTION:Attend our weekly online bible study.  We cover various Biblical aspects and how they relate to daily life.
URL:https://www.sweetprospectbaptistchurch.org/event/online-bible-study/2028-04-12/
END:VEVENT
BEGIN:VEVENT
DTSTART;TZID=America/New_York:20280419T190000
DTEND;TZID=America/New_York:20280419T203000
DTSTAMP:20260419T233308
CREATED:20250220T002222Z
LAST-MODIFIED:20250220T002235Z
UID:10000427-1839783600-1839789000@www.sweetprospectbaptistchurch.org
SUMMARY:Online Bible Study
DESCRIPTION:Attend our weekly online bible study.  We cover various Biblical aspects and how they relate to daily life.
URL:https://www.sweetprospectbaptistchurch.org/event/online-bible-study/2028-04-19/
END:VEVENT
BEGIN:VEVENT
DTSTART;TZID=America/New_York:20280426T190000
DTEND;TZID=America/New_York:20280426T203000
DTSTAMP:20260419T233308
CREATED:20250220T002222Z
LAST-MODIFIED:20250220T002235Z
UID:10000428-1840388400-1840393800@www.sweetprospectbaptistchurch.org
SUMMARY:Online Bible Study
DESCRIPTION:Attend our weekly online bible study.  We cover various Biblical aspects and how they relate to daily life.
URL:https://www.sweetprospectbaptistchurch.org/event/online-bible-study/2028-04-26/
END:VEVENT
BEGIN:VEVENT
DTSTART;TZID=America/New_York:20280503T190000
DTEND;TZID=America/New_York:20280503T203000
DTSTAMP:20260419T233308
CREATED:20250220T002222Z
LAST-MODIFIED:20250220T002235Z
UID:10000429-1840993200-1840998600@www.sweetprospectbaptistchurch.org
SUMMARY:Online Bible Study
DESCRIPTION:Attend our weekly online bible study.  We cover various Biblical aspects and how they relate to daily life.
URL:https://www.sweetprospectbaptistchurch.org/event/online-bible-study/2028-05-03/
END:VEVENT
BEGIN:VEVENT
DTSTART;TZID=America/New_York:20280510T190000
DTEND;TZID=America/New_York:20280510T203000
DTSTAMP:20260419T233308
CREATED:20250220T002222Z
LAST-MODIFIED:20250220T002235Z
UID:10000430-1841598000-1841603400@www.sweetprospectbaptistchurch.org
SUMMARY:Online Bible Study
DESCRIPTION:Attend our weekly online bible study.  We cover various Biblical aspects and how they relate to daily life.
URL:https://www.sweetprospectbaptistchurch.org/event/online-bible-study/2028-05-10/
END:VEVENT
BEGIN:VEVENT
DTSTART;TZID=America/New_York:20280517T190000
DTEND;TZID=America/New_York:20280517T203000
DTSTAMP:20260419T233308
CREATED:20250220T002222Z
LAST-MODIFIED:20250220T002235Z
UID:10000431-1842202800-1842208200@www.sweetprospectbaptistchurch.org
SUMMARY:Online Bible Study
DESCRIPTION:Attend our weekly online bible study.  We cover various Biblical aspects and how they relate to daily life.
URL:https://www.sweetprospectbaptistchurch.org/event/online-bible-study/2028-05-17/
END:VEVENT
BEGIN:VEVENT
DTSTART;TZID=America/New_York:20280524T190000
DTEND;TZID=America/New_York:20280524T203000
DTSTAMP:20260419T233308
CREATED:20250220T002222Z
LAST-MODIFIED:20250220T002235Z
UID:10000432-1842807600-1842813000@www.sweetprospectbaptistchurch.org
SUMMARY:Online Bible Study
DESCRIPTION:Attend our weekly online bible study.  We cover various Biblical aspects and how they relate to daily life.
URL:https://www.sweetprospectbaptistchurch.org/event/online-bible-study/2028-05-24/
END:VEVENT
BEGIN:VEVENT
DTSTART;TZID=America/New_York:20280531T190000
DTEND;TZID=America/New_York:20280531T203000
DTSTAMP:20260419T233308
CREATED:20250220T002222Z
LAST-MODIFIED:20250220T002235Z
UID:10000433-1843412400-1843417800@www.sweetprospectbaptistchurch.org
SUMMARY:Online Bible Study
DESCRIPTION:Attend our weekly online bible study.  We cover various Biblical aspects and how they relate to daily life.
URL:https://www.sweetprospectbaptistchurch.org/event/online-bible-study/2028-05-31/
END:VEVENT
BEGIN:VEVENT
DTSTART;TZID=America/New_York:20280607T190000
DTEND;TZID=America/New_York:20280607T203000
DTSTAMP:20260419T233308
CREATED:20250220T002222Z
LAST-MODIFIED:20250220T002235Z
UID:10000434-1844017200-1844022600@www.sweetprospectbaptistchurch.org
SUMMARY:Online Bible Study
DESCRIPTION:Attend our weekly online bible study.  We cover various Biblical aspects and how they relate to daily life.
URL:https://www.sweetprospectbaptistchurch.org/event/online-bible-study/2028-06-07/
END:VEVENT
BEGIN:VEVENT
DTSTART;TZID=America/New_York:20280614T190000
DTEND;TZID=America/New_York:20280614T203000
DTSTAMP:20260419T233308
CREATED:20250220T002222Z
LAST-MODIFIED:20250220T002235Z
UID:10000435-1844622000-1844627400@www.sweetprospectbaptistchurch.org
SUMMARY:Online Bible Study
DESCRIPTION:Attend our weekly online bible study.  We cover various Biblical aspects and how they relate to daily life.
URL:https://www.sweetprospectbaptistchurch.org/event/online-bible-study/2028-06-14/
END:VEVENT
BEGIN:VEVENT
DTSTART;TZID=America/New_York:20280621T190000
DTEND;TZID=America/New_York:20280621T203000
DTSTAMP:20260419T233308
CREATED:20250220T002222Z
LAST-MODIFIED:20250220T002235Z
UID:10000436-1845226800-1845232200@www.sweetprospectbaptistchurch.org
SUMMARY:Online Bible Study
DESCRIPTION:Attend our weekly online bible study.  We cover various Biblical aspects and how they relate to daily life.
URL:https://www.sweetprospectbaptistchurch.org/event/online-bible-study/2028-06-21/
END:VEVENT
END:VCALENDAR